BEGIN:VCALENDAR
VERSION:2.0
PRODID:-//ODM® Testing - ECPv6.15.20//NONSGML v1.0//EN
CALSCALE:GREGORIAN
METHOD:PUBLISH
X-WR-CALNAME:ODM® Testing
X-ORIGINAL-URL:https://odmtesting.com
X-WR-CALDESC:Events for ODM® Testing
REFRESH-INTERVAL;VALUE=DURATION:PT1H
X-Robots-Tag:noindex
X-PUBLISHED-TTL:PT1H
BEGIN:VTIMEZONE
TZID:UTC
BEGIN:STANDARD
TZOFFSETFROM:+0000
TZOFFSETTO:+0000
TZNAME:UTC
DTSTART:20250101T000000
END:STANDARD
END:VTIMEZONE
BEGIN:VEVENT
DTSTART;TZID=UTC:20260617T143000
DTEND;TZID=UTC:20260617T163000
DTSTAMP:20260425T130313
CREATED:20251230T053340Z
LAST-MODIFIED:20251230T054128Z
UID:7420-1781706600-1781713800@odmtesting.com
SUMMARY:Scenic City\, ODM® Testing [OPEN to ALL]
DESCRIPTION:ODM® is trusted by players\, parents\, college and travel ball coaches across the country.\nWHEN: \nWednesday\, June 17\, 2026 \n2:30pm-4:30pm \n***Event will be limited to 100 players only \nWHERE: \nLocation will be announced at a closer date \nWHAT TO BRING/WEAR: \nOUTDOOR: athletic/gym attire\, bat\, glove\, batting gloves\, cleats & water \nOUR TESTS: \n\n10\, 20\, 40 Yard Dash\nPro Agility Shuttle\nBat Speed\, Hand Speed\, Time to Contact (avg)\nBall Exit Speed (avg)\nThrowing Velocity (avg)\nBroad Jump\nGrip Strength\n\nPLAYERS WILL RECEIVE:\n\nODM® Testing Measurements\nAllister Index\, included with Level I Testing only\nODM® Testing Scorecard via registered email\nScores listed on National Leaderboard\nConsideration for invitation-only OnDeck Softball Jamborees\nFREE OnDeck Softball Player Profile\n\nADDITONAL INFO:\n\nAn OnDeck Softball profile is included and required for registration\nIf you are registering more than one player\, use different emails for each profiles\nScorecards will be sent via email within 10 business days post event\n\n\nRegister Here for ODM® Testing\nClick Here to Pre-Order Hitting Tool
URL:https://odmtesting.com/event/scenic-city/
LOCATION:TBA\, Chatanooga\, Tennessee
ATTACH;FMTTYPE=image/png:https://odmtesting.com/wp-content/uploads/2025/12/scenic-city-2025-purple-e1767073107678.png
END:VEVENT
END:VCALENDAR