BEGIN:VCALENDAR
VERSION:2.0
PRODID:-//ODM® Testing - ECPv6.15.20//NONSGML v1.0//EN
CALSCALE:GREGORIAN
METHOD:PUBLISH
X-WR-CALNAME:ODM® Testing
X-ORIGINAL-URL:https://odmtesting.com
X-WR-CALDESC:Events for ODM® Testing
REFRESH-INTERVAL;VALUE=DURATION:PT1H
X-Robots-Tag:noindex
X-PUBLISHED-TTL:PT1H
BEGIN:VTIMEZONE
TZID:UTC
BEGIN:STANDARD
TZOFFSETFROM:+0000
TZOFFSETTO:+0000
TZNAME:UTC
DTSTART:20250101T000000
END:STANDARD
END:VTIMEZONE
BEGIN:VEVENT
DTSTART;TZID=UTC:20260111T120000
DTEND;TZID=UTC:20260111T170000
DTSTAMP:20260425T143611
CREATED:20241008T064858Z
LAST-MODIFIED:20251129T212231Z
UID:6998-1768132800-1768150800@odmtesting.com
SUMMARY:Newtown Rock \, ODM® Testing [PRIVATE]
DESCRIPTION:ODM® is trusted by players\, parents\, college and travel ball coaches across the country.\nWHEN: \nSunday\, January 11\, 2026 \nTimes will be determine based on your teams age grou \nWHERE: \nNAC Sports \nWHAT TO BRING/WEAR: \nINDOOR: athletic/gym attire\, bat\, glove\, batting gloves\, turf and tennis shoes & water \nOUR TESTS: \n\n10\, 20\, 40 Yard Dash\nPro Agility Shuttle\nBat Speed\, Hand Speed\, Time to Contact (avg)\nBall Exit Speed (avg)\nThrowing Velocity (avg)\nBroad Jump\nGrip Strength\n\nPLAYERS WILL RECEIVE:\n\nODM® Testing Measurements\nAllister Index\, included with Level I Testing only\nODM® Testing Scorecard via registered email\nScores listed on National Leaderboard\nConsideration for invitation-only OnDeck Softball Jamborees\nFREE OnDeck Softball Player Profile\n\nADDITONAL INFO:\n\nAn OnDeck Softball profile is included and required for registration\nIf you are registering more than one player\, use different emails for each profiles\nScorecards will be sent via email within 10 business days post event\n\n\nRegister Here for ODM® Testing\nClick Here to Pre-Order Hitting Tool
URL:https://odmtesting.com/event/newtown-rock/
LOCATION:NAC Sports Center\, Newtown\, PA\, United States
ATTACH;FMTTYPE=image/jpeg:https://odmtesting.com/wp-content/uploads/2022/08/Newtown-Rock-Logo-e1663296942436.jpg
END:VEVENT
BEGIN:VEVENT
DTSTART;TZID=UTC:20260124T090000
DTEND;TZID=UTC:20260124T170000
DTSTAMP:20260425T143611
CREATED:20251116T175217Z
LAST-MODIFIED:20251129T213846Z
UID:7374-1769245200-1769274000@odmtesting.com
SUMMARY:Indiana Gators\, ODM® Testing [PRIVATE]
DESCRIPTION:ODM® is trusted by players\, parents\, college and travel ball coaches across the country.\nWHEN: \nSaturday\, January 24\, 2026 \nSession Times: \n\n9am-11am\n11am-1pm\n1pm-3pm\n3pm-5pm\n\nIf you are registering for the pitching portion: \nAll pitching will start at the conclusion of your session time \nWHERE: \nFull Circle Sports Facility \n3029 West Glacier Dr. Monrovia\, IN. 46157 \nWHAT TO BRING/WEAR: \nINDOOR: athletic/gym attire\, bat\, glove\, batting gloves\, turf and tennis shoes & water \nOUR TESTS: \n\n10\, 20\, 40 Yard Dash\nPro Agility Shuttle\nBat Speed\, Hand Speed\, Time to Contact (avg)\nBall Exit Speed (avg)\nThrowing Velocity (avg)\nBroad Jump\nGrip Strength\n\nPLAYERS WILL RECEIVE:\n\nODM® Testing Measurements\nAllister Index\, included with Level I Testing only\nODM® Testing Scorecard via registered email\nScores listed on National Leaderboard\nConsideration for invitation-only OnDeck Softball Jamborees\nFREE OnDeck Softball Player Profile\n\nADDITONAL INFO:\n\nAn OnDeck Softball profile is included and required for registration\nIf you are registering more than one player\, use different emails for each profiles\nScorecards will be sent via email within 10 business days post event\n\n\nRegister Here for ODM® Testing\nClick Here to Pre-Order Hitting Tool\n\nPITCHING INFO:\n\nPitching will take place in between sessions\nP.O\, contact Kj to coordinate a time\nPitchers will need a catcher \nRegistered pitchers will have priority over walkups (walkups may be turned away due to time constraints)\nIf you opt in for the Basic Analysis Report\, turn time is 3-4 weeks.\n\n\n\n\nRegister Here for Pitching
URL:https://odmtesting.com/event/indiana-gators/
LOCATION:Full Circle Sports\, 3029 West Glacier Dr.\, Monrovia\, IN\, 46157
ATTACH;FMTTYPE=image/jpeg:https://odmtesting.com/wp-content/uploads/2025/11/Indiana-Gators-Logo-e1763315471517.jpeg
END:VEVENT
END:VCALENDAR