BEGIN:VCALENDAR
VERSION:2.0
PRODID:-//ODM® Testing - ECPv6.15.20//NONSGML v1.0//EN
CALSCALE:GREGORIAN
METHOD:PUBLISH
X-ORIGINAL-URL:https://odmtesting.com
X-WR-CALDESC:Events for ODM® Testing
REFRESH-INTERVAL;VALUE=DURATION:PT1H
X-Robots-Tag:noindex
X-PUBLISHED-TTL:PT1H
BEGIN:VTIMEZONE
TZID:UTC
BEGIN:STANDARD
TZOFFSETFROM:+0000
TZOFFSETTO:+0000
TZNAME:UTC
DTSTART:20240101T000000
END:STANDARD
END:VTIMEZONE
BEGIN:VEVENT
DTSTART;TZID=UTC:20251115T090000
DTEND;TZID=UTC:20251115T130000
DTSTAMP:20260425T172116
CREATED:20230822T162421Z
LAST-MODIFIED:20251011T041709Z
UID:6156-1763197200-1763211600@odmtesting.com
SUMMARY:Wisconsin Lightning\, ODM® Testing [Private]
DESCRIPTION:ODM® is trusted by players\, parents\, college and travel ball coaches across the country.\nWHEN: \nSaturday\, November 16\, 2024 \nSession One: 9AM-11AM;  \nSession Two: 11:30AM-12:30PM;  \nIf you are registering for the pitching portion: \nAll pitching will start at the conclusion of Session 1 and before Session 2. \nWHERE: \nWisconsin Lightning Hitting Facility \nWHAT TO BRING/WEAR: \nINDOOR: athletic/gym attire\, bat\, glove\, batting gloves\, turf and tennis shoes & water \nOUR TESTS: \n\n10\, 20\, 40 Yard Dash\nPro Agility Shuttle\nBat Speed\, Hand Speed\, Time to Contact (avg)\nBall Exit Speed (avg)\nThrowing Velocity (avg)\nBroad Jump\nGrip Strength\n\nPLAYERS WILL RECEIVE:\n\nODM® Testing Measurements\nAllister Index\, included with Level I Testing only\nODM® Testing Scorecard via registered email\nScores listed on National Leaderboard\nConsideration for invitation-only OnDeck Softball Jamborees\nFREE OnDeck Softball Player Profile\n\nADDITONAL INFO:\n\nAn OnDeck Softball profile is included and required for registration\nIf you are registering more than one player\, use different emails for each profiles\nScorecards will be sent via email within 10 business days post event\n\n\nRegister Here for ODM® Testing\nClick Here to Pre-Order Hitting Tool\n\nPITCHING INFO:\n\nPitching will take place in between sessions\nP.O\, contact Kj to coordinate a time\nPitchers will need a catcher \nRegistered pitchers will have priority over walkups (walkups may be turned away due to time constraints)\nIf you opt in for the Basic Analysis Report\, turn time is 3-4 weeks.\n\n\n\n\nRegister Here for Pitching
URL:https://odmtesting.com/event/wisc-lightning/
LOCATION:Wisconsin Lightning Hitting Facility\, 1215 N Pryor St\, Silver Lake\, WI\, 53170\, United States
ATTACH;FMTTYPE=image/jpeg:https://odmtesting.com/wp-content/uploads/2023/08/Wisconsin-Lightning-Logo-e1692721409660.jpg
END:VEVENT
BEGIN:VEVENT
DTSTART;TZID=UTC:20251115T150000
DTEND;TZID=UTC:20251115T170000
DTSTAMP:20260425T172116
CREATED:20230728T061023Z
LAST-MODIFIED:20251011T041744Z
UID:6037-1763218800-1763226000@odmtesting.com
SUMMARY:Wasco Diamonds\, ODM® Testing [Private]
DESCRIPTION:ODM® is trusted by players\, parents\, college and travel ball coaches across the country.\nWHEN: \nSaturday\, November 15\, 2025; Checkin is 15 minutes prior to Start-Time \nStart-Time: 3pm-5pm \nPitching will follow the completion of ODM® Testing \nWHERE: \nAnderson Park; If need be we will move the testing to The Diamond for weather \nWHAT TO BRING/WEAR: \nOUTDOOR: athletic/gym attire\, bat\, glove\, batting gloves\, cleats & water \nOUR TESTS: \n\n10\, 20\, 40 Yard Dash\nPro Agility Shuttle\nBat Speed\, Hand Speed\, Time to Contact (avg)\nBall Exit Speed (avg)\nThrowing Velocity (avg)\nBroad Jump\nGrip Strength\n\nPLAYERS WILL RECEIVE:\n\nODM® Testing Measurements\nAllister Index\, included with Level I Testing only\nODM® Testing Scorecard via registered email\nScores listed on National Leaderboard\nConsideration for invitation-only OnDeck Softball Jamborees\nFREE OnDeck Softball Player Profile\n\nADDITONAL INFO:\n\nAn OnDeck Softball profile is included and required for registration\nIf you are registering more than one player\, use different emails for each profiles\nScorecards will be sent via email within 10 business days post event\n\n\nRegister Here for ODM® Testing\n\n\nClick Here to Pre-Order Hitting Tool\n\nPITCHING INFO:\n\nPitching will take place in between sessions\nP.O\, contact Kj to coordinate a time\nPitchers will need a catcher \nRegistered pitchers will have priority over walkups (walkups may be turned away due to time constraints)\nIf you opt in for the Basic Analysis Report\, turn time is 3-4 weeks.\n\n\nRegister Here for Pitching
URL:https://odmtesting.com/event/wasco-diamonds/
LOCATION:Anderson Park\, Campton Hills\, IL\, United States
ATTACH;FMTTYPE=image/png:https://odmtesting.com/wp-content/uploads/2022/09/Screen-Shot-2022-09-15-at-8.44.46-PM-e1725767256665.png
END:VEVENT
END:VCALENDAR