BEGIN:VCALENDAR
VERSION:2.0
PRODID:-//ODM® Testing - ECPv6.15.20//NONSGML v1.0//EN
CALSCALE:GREGORIAN
METHOD:PUBLISH
X-WR-CALNAME:ODM® Testing
X-ORIGINAL-URL:https://odmtesting.com
X-WR-CALDESC:Events for ODM® Testing
REFRESH-INTERVAL;VALUE=DURATION:PT1H
X-Robots-Tag:noindex
X-PUBLISHED-TTL:PT1H
BEGIN:VTIMEZONE
TZID:UTC
BEGIN:STANDARD
TZOFFSETFROM:+0000
TZOFFSETTO:+0000
TZNAME:UTC
DTSTART:20240101T000000
END:STANDARD
END:VTIMEZONE
BEGIN:VEVENT
DTSTART;TZID=UTC:20250912T160000
DTEND;TZID=UTC:20250913T200000
DTSTAMP:20260425T194909
CREATED:20240806T063621Z
LAST-MODIFIED:20250908T202742Z
UID:6792-1757692800-1757793600@odmtesting.com
SUMMARY:Firecrackers\, ODM® Testing [Private]
DESCRIPTION:ODM® is trusted by players\, parents\, college and travel ball coaches across the country. \nWHEN: \nFriday September 12th \n\nSession 1: 4pm-6pm\nSession 2: 6pm-8pm\n\nSaturday\, September 13th \n\nSession 3: 9am-11am\nSession 4: 11am-1pm (Sold Out)\nSession 5: 2pm-4pm \n\nSessions will be capped at 60. \nAny questions please contact Robyn @ robyn@firecrackersoftball.com \nWHERE: \nAnaheim Firecracker Warehouse \n1580 S. Sinclair St\, Anaheim\, CA 92806 \nWHAT TO BRING/WEAR: \nINDOOR: athletic/gym attire\, bat\, glove\, batting gloves\, turf shoes & water \nOUR TESTS: \n\n10\, 20\, 40 Yard Dash\nPro Agility Shuttle\nBat Speed\, Hand Speed\, Time to Contact(avg)\nBall Exit Speed(avg)\nThrowing Velocity(avg)\nBroad Jump\nGrip Strength\n\nPLAYERS WILL RECEIVE:\n\nODM® Testing Measurements\nAllister Index\, included with Level I Testing only\nODM® Testing Scorecard via registered email\nScores listed on National Leaderboard for one month\nConsideration for invitation-only OnDeck Softball Jamborees\nFREE OnDeck Softball Player Profile\n\nADDITONAL INFO:\n\nAn OnDeck Softball profile is included and required for registration\nIf you are registering more than one player\, use different emails for each profiles\nScorecards will be sent via email within 7 days after the conclusion of the event\n\nPITCHING INFO:\n\nPitching will take place after your ODM® Session\nIf you are only pitching\, contact Kj to coordinate a time\nPitchers will need a catcher \nRegistered pitchers will have priority over walkups\n\n\nRegister Here for ODM® Testing\nRegister Here for Pitching\nClick Here to Pre-Order Hitting Tool
URL:https://odmtesting.com/event/firecrackers/
LOCATION:Anaheim Firecracker Warehouse\, 1580 S Sinclair St\, Anaheim\, CA\, 92806
ATTACH;FMTTYPE=image/jpeg:https://odmtesting.com/wp-content/uploads/2024/08/Firecrackers-Offical-Logo-e1725767214941.jpg
END:VEVENT
END:VCALENDAR