BEGIN:VCALENDAR
VERSION:2.0
PRODID:-//ODM® Testing - ECPv6.15.20//NONSGML v1.0//EN
CALSCALE:GREGORIAN
METHOD:PUBLISH
X-WR-CALNAME:ODM® Testing
X-ORIGINAL-URL:https://odmtesting.com
X-WR-CALDESC:Events for ODM® Testing
REFRESH-INTERVAL;VALUE=DURATION:PT1H
X-Robots-Tag:noindex
X-PUBLISHED-TTL:PT1H
BEGIN:VTIMEZONE
TZID:UTC
BEGIN:STANDARD
TZOFFSETFROM:+0000
TZOFFSETTO:+0000
TZNAME:UTC
DTSTART:20240101T000000
END:STANDARD
END:VTIMEZONE
BEGIN:VEVENT
DTSTART;TZID=UTC:20250817T100000
DTEND;TZID=UTC:20250817T150000
DTSTAMP:20260425T212255
CREATED:20240531T052558Z
LAST-MODIFIED:20250624T231124Z
UID:6725-1755424800-1755442800@odmtesting.com
SUMMARY:Team PA\, ODM® Testing [Private]
DESCRIPTION:ODM® is trusted by players\, parents\, college and travel ball coaches across the country.\nWHEN: \nSunday\, August 17\, 2025  \n10u and 12u: 9am-10:30am 14u’s 11am-1pm   16u- 18u: 1pm-3pm \nPitching portion will be offered after testing is completed.  \nWHERE: \nHighlands Sportsplex \nTridelphia\, WV \nWHAT TO BRING/WEAR: \nINDOOR: athletic/gym attire\, bat\, glove\, batting gloves\, turfshoes & water \nOUR TESTS: \n\n10\, 20\, 40 Yard Dash\nPro Agility Shuttle\nBat Speed\, Hand Speed\, Time to Contact\nBall Exit Speed\nThrowing Velocity\nBroad Jump\nGrip Strength\n\nPLAYERS WILL RECEIVE:\n\nODM® Testing Measurements\nAllister Index\, included with Level I Testing only\nODM® Testing Scorecard via registered email\nScores listed on National Leaderboard for one month\nConsideration for invitation-only OnDeck Softball Jamborees\nFREE OnDeck Softball Player Profile\n\nADDITONAL INFO:\n\nAn OnDeck Softball profile is included and required for registration\nIf you are registering more than one player\, use different emails for each profiles\nScorecards will be sent via email within 7 days after the conclusion of the event\n\n\nRegister Here for ODM® Testing\nClick Here to Pre-Order Hitting Tool\n\n\nRegister Here for Pitching
URL:https://odmtesting.com/event/teampa2025/
LOCATION:Highlands Sportsplex\, 225 McCormick Wy\, Triadelphia\, WV\, 26059
ATTACH;FMTTYPE=image/jpeg:https://odmtesting.com/wp-content/uploads/2023/01/Team-PA-logo-e1674084421650.jpeg
END:VEVENT
BEGIN:VEVENT
DTSTART;TZID=UTC:20250818T180000
DTEND;TZID=UTC:20250818T210000
DTSTAMP:20260425T212255
CREATED:20250714T222104Z
LAST-MODIFIED:20250714T222130Z
UID:7244-1755540000-1755550800@odmtesting.com
SUMMARY:Pittsburgh Roadrunners\, ODM® Testing (Private)
DESCRIPTION:ODM® is trusted by players\, parents\, college and travel ball coaches across the country.\nWHEN: \nMonday\, August 18th\, 2025  \nSession 1: 6pm-9pm \nWHERE: \nGreenTree Sportsplex \nWHAT TO BRING/WEAR: \nINDOOR: athletic/gym attire\, bat\, glove\, batting gloves\, turf shoes & water \nOUR TESTS: \n\n10\, 20\, 40 Yard Dash\nPro Agility Shuttle\nBat Speed\, Hand Speed\, Time to Contact (avg)\nBall Exit Speed (avg)\nThrowing Velocity (avg)\nBroad Jump\nGrip Strength\n\nPLAYERS WILL RECEIVE:\n\nODM® Testing Measurements\nAllister Index\, included with Level I Testing only\nODM® Testing Scorecard via registered email\nScores listed on National Leaderboard for one month\nConsideration for invitation-only OnDeck Softball Jamborees\nFREE OnDeck Softball Player Profile\n\nADDITONAL INFO:\n\nAn OnDeck Softball profile is included and required for registration\nIf you are registering more than one player\, use different emails for each profiles\nScorecards will be sent via email within 7 days after the conclusion of the event\n\n\nRegister Here for ODM® Testing\nClick Here to Pre-Order Hitting Tool
URL:https://odmtesting.com/event/roadrunners-odm/
LOCATION:GreenTree Sportsplex\, 600 Iron City Dr\, Pittsburgh\, PA\, 15205\, United States
ATTACH;FMTTYPE=image/png:https://odmtesting.com/wp-content/uploads/2022/10/ODM-Vector-Logo.png-R-e1665445520436.png
END:VEVENT
BEGIN:VEVENT
DTSTART;TZID=UTC:20250818T180000
DTEND;TZID=UTC:20250818T210000
DTSTAMP:20260425T212255
CREATED:20250714T222307Z
LAST-MODIFIED:20250714T223501Z
UID:7245-1755540000-1755550800@odmtesting.com
SUMMARY:Pittsburgh ODM® Testing (Open to All)
DESCRIPTION:ODM® is trusted by players\, parents\, college and travel ball coaches across the country.\nWHEN: \nMonday\, August 18th\, 2025  \nSession 1: 6pm-9pm \nWHERE: \nGreenTree Sportsplex \nWHAT TO BRING/WEAR: \nINDOOR: athletic/gym attire\, bat\, glove\, batting gloves\, turf shoes & water \nOUR TESTS: \n\n10\, 20\, 40 Yard Dash\nPro Agility Shuttle\nBat Speed\, Hand Speed\, Time to Contact (avg)\nBall Exit Speed (avg)\nThrowing Velocity (avg)\nBroad Jump\nGrip Strength\n\nPLAYERS WILL RECEIVE:\n\nODM® Testing Measurements\nAllister Index\, included with Level I Testing only\nODM® Testing Scorecard via registered email\nScores listed on National Leaderboard for one month\nConsideration for invitation-only OnDeck Softball Jamborees\nFREE OnDeck Softball Player Profile\n\nADDITONAL INFO:\n\nAn OnDeck Softball profile is included and required for registration\nIf you are registering more than one player\, use different emails for each profiles\nScorecards will be sent via email within 7 days after the conclusion of the event\n\n\nRegister Here for ODM® Testing\nClick Here to Pre-Order Hitting Tool
URL:https://odmtesting.com/event/pittsburgh-odm/
LOCATION:GreenTree Sportsplex\, 600 Iron City Dr\, Pittsburgh\, PA\, 15205\, United States
ATTACH;FMTTYPE=image/png:https://odmtesting.com/wp-content/uploads/2022/10/ODM-Vector-Logo.png-R-e1665445520436.png
END:VEVENT
BEGIN:VEVENT
DTSTART;VALUE=DATE:20250823
DTEND;VALUE=DATE:20250825
DTSTAMP:20260425T212255
CREATED:20230802T214712Z
LAST-MODIFIED:20250722T005807Z
UID:6047-1755907200-1756079999@odmtesting.com
SUMMARY:Turnin2 ODM® Testing 2025 [PRIVATE]
DESCRIPTION:ODM® is trusted by players\, parents\, college and travel ball coaches across the country.\nWHEN: \nSaturday\, August 23\, 2025 \nMorning Start time:9:30am|Afternoon Start time: 1:30pm \nSunday\, August 24\, 2025 \nMorning Start time:9:30am|Afternoon Start time: 1:30pm \nTimes for testing will be determined by the T2 organization.  \nWHERE: \nMission Fields \nWHAT TO BRING/WEAR: \nOUTDOOR: sports attire\, bat\, glove\, batting gloves\, cleats & water \nOUR TESTS: \n\n10\, 20\, 40 Yard Dash\nPro Agility Shuttle\nBat Speed\, Hand Speed\, Time to Contact (avg)\nBall Exit Speed (avg)\nThrowing Velocity (avg)\nBroad Jump\nGrip Strength\n\nPLAYERS WILL RECEIVE:\n\nODM® Testing Measurements\nAllister Index\, included with Level I Testing only\nODM® Testing Scorecard via registered email\nScores listed on National Leaderboard for one month\nConsideration for invitation-only OnDeck Softball Jamborees\nFREE OnDeck Softball Player Profile\n\nADDITONAL INFO:\n\nAn OnDeck Softball profile is included and required for registration\nIf you are registering more than one player\, use different emails for each profiles\n\n\n13u and Older Teams ODM® Registration\n12u and Younger Teams ODM® Registration\n\n\n 
URL:https://odmtesting.com/event/turnin2-odm-testing/
LOCATION:Mission Fields\, 40000 6 Mile Rd\, Northville\, MI\, United States
ATTACH;FMTTYPE=image/png:https://odmtesting.com/wp-content/uploads/2018/11/T2-2-e1691013780316.png
END:VEVENT
END:VCALENDAR