BEGIN:VCALENDAR
VERSION:2.0
PRODID:-//ODM® Testing - ECPv6.15.20//NONSGML v1.0//EN
CALSCALE:GREGORIAN
METHOD:PUBLISH
X-WR-CALNAME:ODM® Testing
X-ORIGINAL-URL:https://odmtesting.com
X-WR-CALDESC:Events for ODM® Testing
REFRESH-INTERVAL;VALUE=DURATION:PT1H
X-Robots-Tag:noindex
X-PUBLISHED-TTL:PT1H
BEGIN:VTIMEZONE
TZID:UTC
BEGIN:STANDARD
TZOFFSETFROM:+0000
TZOFFSETTO:+0000
TZNAME:UTC
DTSTART:20240101T000000
END:STANDARD
END:VTIMEZONE
BEGIN:VEVENT
DTSTART;TZID=UTC:20250503T090000
DTEND;TZID=UTC:20250503T140000
DTSTAMP:20260426T012828
CREATED:20240425T001328Z
LAST-MODIFIED:20250430T205800Z
UID:6702-1746262800-1746280800@odmtesting.com
SUMMARY:OnDeck Softball Futures Tournament\, ODM® Testing [PRIVATE]
DESCRIPTION:ODM® is trusted by players\, parents\, college and travel ball coaches across the country.\nWHEN: \nSaturday\, May 3\, 20245 \nSession 1: 9am-10am    Session 2: 10am-11am   Session 3: 11am-12pm   \nSession 4: 12pm-1pm   Session 5: 1pm-2pm \nWHERE: \nHickman Field on the soccer field \nWHAT TO BRING/WEAR: \nOUTDOOR: athletic/gym attire\, bat\, glove\, batting gloves\, cleats & water \nOUR TESTS: \n\n10\, 20\, 40 Yard Dash\nPro Agility Shuttle\nBat Speed\, Hand Speed\, Time to Contact (avg)\nBall Exit Speed (avg)\nThrowing Velocity (avg)\nBroad Jump\nGrip Strength\n\nPLAYERS WILL RECEIVE:\n\nODM® Testing Measurements\nAllister Index\, included with Level I Testing only\nODM® Testing Scorecard via registered email\nScores listed on National Leaderboard for one month\nConsideration for invitation-only OnDeck Softball Jamborees\nFREE OnDeck Softball Player Profile\n\nADDITONAL INFO:\n\nAn OnDeck Softball profile is included and required for registration\nIf you are registering more than one player\, use different emails for each profiles\nScorecards will be sent via email within 7 days after the conclusion of the event\n\n\nRegister Here for ODM® Testing\nClick Here to Pre-Order Hitting Tool
URL:https://odmtesting.com/event/futures-tournament-2025/
LOCATION:Hickman Field\, 6660 Hickman Field Drive\, San Diego\, CA\, 92111\, United States
ATTACH;FMTTYPE=image/png:https://odmtesting.com/wp-content/uploads/2022/10/ODM-Vector-Logo.png-R-e1665445520436.png
END:VEVENT
BEGIN:VEVENT
DTSTART;TZID=UTC:20250518T090000
DTEND;TZID=UTC:20250518T110000
DTSTAMP:20260426T012828
CREATED:20250301T051853Z
LAST-MODIFIED:20250518T024205Z
UID:7147-1747558800-1747566000@odmtesting.com
SUMMARY:Power Surge\, ODM® Testing [Open to ALL]
DESCRIPTION:ODM® is trusted by players\, parents\, college and travel ball coaches across the country.\nWHEN: \nSunday\, May 18\, 2025  \nSession 1: 9am-11am \nWHERE: \nHickman Fields \nWHAT TO BRING/WEAR: \nOUTDOOR: athletic/gym attire\, bat\, glove\, batting gloves\, cleats & water \nOUR TESTS: \n\n10\, 20\, 40 Yard Dash\nPro Agility Shuttle\nBat Speed\, Hand Speed\, Time to Contact (avg)\nBall Exit Speed (avg)\nThrowing Velocity (avg)\nBroad Jump\nGrip Strength\n\nPLAYERS WILL RECEIVE:\n\nODM® Testing Measurements\nAllister Index\, included with Level I Testing only\nODM® Testing Scorecard via registered email\nScores listed on National Leaderboard for one month\nConsideration for invitation-only OnDeck Softball Jamborees\nFREE OnDeck Softball Player Profile\n\nADDITONAL INFO:\n\nAn OnDeck Softball profile is included and required for registration\nIf you are registering more than one player\, use different emails for each profiles\nScorecards will be sent via email within 7 days after the conclusion of the event\n\n\nRegister Here for ODM® Testing\n 
URL:https://odmtesting.com/event/power-surge/
LOCATION:Hickman Field\, 6660 Hickman Field Drive\, San Diego\, CA\, 92111\, United States
ATTACH;FMTTYPE=image/jpeg:https://odmtesting.com/wp-content/uploads/2022/03/Power-Surge-Logo.jpg
END:VEVENT
END:VCALENDAR