BEGIN:VCALENDAR
VERSION:2.0
PRODID:-//ODM® Testing - ECPv6.15.20//NONSGML v1.0//EN
CALSCALE:GREGORIAN
METHOD:PUBLISH
X-ORIGINAL-URL:https://odmtesting.com
X-WR-CALDESC:Events for ODM® Testing
REFRESH-INTERVAL;VALUE=DURATION:PT1H
X-Robots-Tag:noindex
X-PUBLISHED-TTL:PT1H
BEGIN:VTIMEZONE
TZID:UTC
BEGIN:STANDARD
TZOFFSETFROM:+0000
TZOFFSETTO:+0000
TZNAME:UTC
DTSTART:20240101T000000
END:STANDARD
END:VTIMEZONE
BEGIN:VEVENT
DTSTART;VALUE=DATE:20250426
DTEND;VALUE=DATE:20250428
DTSTAMP:20260426T024108
CREATED:20240707T191233Z
LAST-MODIFIED:20241105T182643Z
UID:6766-1745625600-1745798399@odmtesting.com
SUMMARY:Impact Gold\, ODM® Testing [Private]
DESCRIPTION:ODM® is trusted by players\, parents\, college and travel ball coaches across the country.\nWHEN: \nHOUSTON Location: Saturday\, April 26th \n\nSession 1: 9am-10:30am\nSession 2: 10:30am-12pm\nSession 3: 1pm-2:30pm\nSession 4: 2:30pm-4pm\n\nDALLAS Location: Sunday\, April 27th \n\nSession 1: 10am-11:30am\nSession 2: 11:30am-1pm\nSession 3: 2pm-3:30pm\nSession 4: 3:30pm-5pm\n\nWHERE: \nHOUSTON: Deer Park Fields  \nDALLAS: Denton High School (TURF) \nWHAT TO BRING/WEAR: \nOUTDOOR: athletic/gym attire\, bat\, glove\, batting gloves\, cleats & water \nOUR TESTS: \n\n10\, 20\, 40 Yard Dash\nPro Agility Shuttle\nBat Speed\, Hand Speed\, Time to Contact (avg)\nBall Exit Speed (avg)\nThrowing Velocity (avg)\nBroad Jump\nGrip Strength\n\nPLAYERS WILL RECEIVE:\n\nODM® Testing Measurements\nAllister Index\, included with Level I Testing only\nODM® Testing Scorecard via registered email\nScores listed on National Leaderboard for one month\nConsideration for invitation-only OnDeck Softball Jamborees\nFREE OnDeck Softball Player Profile\n\nADDITONAL INFO:\n\nAn OnDeck Softball profile is included and required for registration\nIf you are registering more than one player\, use different emails for each profiles\nScorecards will be sent via email within 10 days after the conclusion of the event\n\n\nHOUSTON\, ODM® Testing\n\nDALLAS\, ODM® Testing\n\nClick Here to Pre-Order Hitting Tool
URL:https://odmtesting.com/event/impact-gold-odm-testing-private/
ATTACH;FMTTYPE=image/png:https://odmtesting.com/wp-content/uploads/2022/10/Impact-Gold-Logo-1-e1720379544829.png
END:VEVENT
END:VCALENDAR