BEGIN:VCALENDAR
VERSION:2.0
PRODID:-//ODM® Testing - ECPv6.15.20//NONSGML v1.0//EN
CALSCALE:GREGORIAN
METHOD:PUBLISH
X-WR-CALNAME:ODM® Testing
X-ORIGINAL-URL:https://odmtesting.com
X-WR-CALDESC:Events for ODM® Testing
REFRESH-INTERVAL;VALUE=DURATION:PT1H
X-Robots-Tag:noindex
X-PUBLISHED-TTL:PT1H
BEGIN:VTIMEZONE
TZID:UTC
BEGIN:STANDARD
TZOFFSETFROM:+0000
TZOFFSETTO:+0000
TZNAME:UTC
DTSTART:20240101T000000
END:STANDARD
END:VTIMEZONE
BEGIN:VEVENT
DTSTART;TZID=UTC:20250301T170000
DTEND;TZID=UTC:20250301T193000
DTSTAMP:20260426T035638
CREATED:20240626T174726Z
LAST-MODIFIED:20250201T202600Z
UID:6754-1740848400-1740857400@odmtesting.com
SUMMARY:New York Lady Nightmares\, ODM® Testing [Open to ALL]
DESCRIPTION:ODM® is trusted by players\, parents\, college and travel ball coaches across the country.\nWHEN: \nSaturday\, March 1\, 2025  \nSession 1: 5pm-7:30pm \nWHERE: \nLIB Fieldhouse  \nWHAT TO BRING/WEAR: \nINDOOR: athletic/gym attire\, bat\, glove\, batting gloves\, molded cleats/turfs & water \nOUR TESTS: \n\n10\, 20\, 40 Yard Dash\nPro Agility Shuttle\nBat Speed\, Hand Speed\, Time to Contact (avg)\nBall Exit Speed (avg)\nThrowing Velocity (avg)\nBroad Jump\nGrip Strength\n\nPLAYERS WILL RECEIVE:\n\nODM® Testing Measurements\nAllister Index\, included with Level I Testing only\nODM® Testing Scorecard via registered email\nScores listed on National Leaderboard for one month\nConsideration for invitation-only OnDeck Softball Jamborees\nFREE OnDeck Softball Player Profile\n\nADDITONAL INFO:\n\nAn OnDeck Softball profile is included and required for registration\nIf you are registering more than one player\, use different emails for each profiles\nScorecards will be sent via email within 10 days after the conclusion of the event\n\n\nRegister Here for ODM® Testing\nClick Here to Pre-Order Hitting Tool
URL:https://odmtesting.com/event/new-york-lady-nightmares-odm-testing/
LOCATION:LIB Field House\, 2230 Howell St.\, Bellmore\, NY\, 11710\, United States
ATTACH;FMTTYPE=image/jpeg:https://odmtesting.com/wp-content/uploads/2023/01/New-York-Lady-Nightmare-Logo-e1725767822368.jpeg
END:VEVENT
BEGIN:VEVENT
DTSTART;TZID=UTC:20250322T120000
DTEND;TZID=UTC:20250322T150000
DTSTAMP:20260426T035638
CREATED:20250310T035555Z
LAST-MODIFIED:20250310T200442Z
UID:7150-1742644800-1742655600@odmtesting.com
SUMMARY:Texas Glory- Katy\, ODM® Testing 2025
DESCRIPTION:ODM® is trusted by players\, parents\, college and travel ball coaches across the country.\nWHEN: \nSaturday\, March 22\, 2025  \nSession 1: 12pm-1:30  session 2: 1:30pm-3pm \nPlease arrive at least 15 minutes prior to your session start time \nWHERE: \nKaty City Park \nWHAT TO BRING/WEAR: \nOUTDOOR: athletic/gym attire\, bat\, glove\, batting gloves\, cleats shoes & water \nOUR TESTS: \n\n10\, 20\, 40 Yard Dash\nPro Agility Shuttle\nBat Speed\, Hand Speed\, Time to Contact (avg)\nBall Exit Speed (avg)\nThrowing Velocity (avg)\nBroad Jump\nGrip Strength\n\nPLAYERS WILL RECEIVE:\n\nODM® Testing Measurements\nAllister Index\, included with Level I Testing only\nODM® Testing Scorecard via registered email\nScores listed on National Leaderboard for one month\nConsideration for invitation-only OnDeck Softball Jamborees\nFREE OnDeck Softball Player Profile\n\nADDITONAL INFO:\n\nAn OnDeck Softball profile is included and required for registration\nIf you are registering more than one player\, use different emails for each profiles\nScorecards will be sent via email within 7 days after the conclusion of the event\n\n\nRegister Here for ODM® Testing\nClick Here to Pre-Order Hitting Tool
URL:https://odmtesting.com/event/tx-glory/
LOCATION:Katy City Park\, 5500 Gardenia LN\, Katy\, TX\, 77493\, United States
ATTACH;FMTTYPE=image/jpeg:https://odmtesting.com/wp-content/uploads/2025/03/TX-Glory-Logo-e1741578853442.jpg
END:VEVENT
END:VCALENDAR