BEGIN:VCALENDAR
VERSION:2.0
PRODID:-//ODM® Testing - ECPv6.15.20//NONSGML v1.0//EN
CALSCALE:GREGORIAN
METHOD:PUBLISH
X-WR-CALNAME:ODM® Testing
X-ORIGINAL-URL:https://odmtesting.com
X-WR-CALDESC:Events for ODM® Testing
REFRESH-INTERVAL;VALUE=DURATION:PT1H
X-Robots-Tag:noindex
X-PUBLISHED-TTL:PT1H
BEGIN:VTIMEZONE
TZID:UTC
BEGIN:STANDARD
TZOFFSETFROM:+0000
TZOFFSETTO:+0000
TZNAME:UTC
DTSTART:20250101T000000
END:STANDARD
END:VTIMEZONE
BEGIN:VEVENT
DTSTART;TZID=UTC:20260509T100000
DTEND;TZID=UTC:20260509T130000
DTSTAMP:20260423T093657
CREATED:20260410T234013Z
LAST-MODIFIED:20260410T234332Z
UID:7477-1778320800-1778331600@odmtesting.com
SUMMARY:VA Unity-GA\, ODM® Testing (PRIVATE)
DESCRIPTION:ODM® is trusted by players\, parents\, college and travel ball coaches across the country.\nWHEN: \nSunday\, May 9\, 2026 \nSession Times: \n\n10am-1pm\n\nWHERE: \nBailey\, GA \nWHAT TO BRING/WEAR: \nOUTDOOR: athletic/gym attire\, bat\, glove\, batting gloves\, cleats & water \nOUR TESTS: \n\n10\, 20\, 40 Yard Dash\nPro Agility Shuttle\nBat Speed\, Hand Speed\, Time to Contact (avg)\nBall Exit Speed (avg)\nThrowing Velocity (avg)\nBroad Jump\nGrip Strength\n\nPLAYERS WILL RECEIVE:\n\nODM® Testing Measurements\nAllister Index\, included with Level I Testing only\nODM® Testing Scorecard via registered email\nScores listed on National Leaderboard\nConsideration for invitation-only OnDeck Softball Jamborees\nFREE OnDeck Softball Player Profile\n\nADDITONAL INFO:\n\nAn OnDeck Softball profile is included and required for registration\nIf you are registering more than one player\, use different emails for each profiles\nScorecards will be sent via email within 10 business days post event\n\n\nRegister Here for ODM® Testing\nClick Here to Pre-Order Hitting Tool\n\n\n\nPITCHING INFO:\n\nPitching will take place after ODM® Testing\nP.O\, contact Kj to coordinate a time\nPitchers will need a catcher \nRegistered pitchers will have priority over walkups (walkups may be turned away due to time constraints)\nIf you opt in for the Basic Analysis Report\, turn time is 3-4 weeks.\nPitching is being covered by the organization\, if you opt in for the Basic Analysis Report you will be responsible for the extra fee.\n\n\n\n\n\n\n 
URL:https://odmtesting.com/event/va-unity-ga/
END:VEVENT
BEGIN:VEVENT
DTSTART;TZID=UTC:20260516T090000
DTEND;TZID=UTC:20260516T190000
DTSTAMP:20260423T093657
CREATED:20240325T235818Z
LAST-MODIFIED:20260306T054222Z
UID:6677-1778922000-1778958000@odmtesting.com
SUMMARY:Breakers Labs\, ODM® Testing [Open to All]
DESCRIPTION:ODM® is trusted by players\, parents\, college and travel ball coaches across the country.\nWHEN: \nSaturday\, May 16\, 2026 \nSession Times: \n\n10:00am-12:00pm\n12:00pm-2:00pm\n2:00pm-4:00pm\n4:00pm-6:00pm\n\nIf you are registering for the pitching portion: \nFirst Session pitching will be from 9am-10am \nWHERE: \n1601 San Elijo Rd S \nSan Marcos\, CA 92078 \nWHAT TO BRING/WEAR: \nINDOOR: athletic/gym attire\, bat\, glove\, batting gloves\, turf shoes & water \nOUR TESTS: \n\n10\, 20\, 40 Yard Dash\nPro Agility Shuttle\nBat Speed\, Hand Speed\, Time to Contact (avg)\nBall Exit Speed (avg)\nThrowing Velocity (avg)\nBroad Jump\nGrip Strength\n\nPLAYERS WILL RECEIVE:\n\nODM® Testing Measurements\nAllister Index\, included with Level I Testing only\nODM® Testing Scorecard via registered email\nScores listed on National Leaderboard\nConsideration for invitation-only OnDeck Softball Jamborees\nFREE OnDeck Softball Player Profile\n\nADDITONAL INFO:\n\nAn OnDeck Softball profile is included and required for registration\nIf you are registering more than one player\, use different emails for each profiles\nScorecards will be sent via email within 10 business days post event\n\n\nRegister Here for ODM® Testing\nClick Here to Pre-Order Hitting Tool\n\nPITCHING INFO:\n\nPitching will take place in between sessions\nP.O\, contact Kj to coordinate a time\nPitchers will need a catcher \nRegistered pitchers will have priority over walkups (walkups may be turned away due to time constraints)\nIf you opt in for the Basic Analysis Report\, turn time is 3-4 weeks.\n\n\n\n\nRegister Here for Pitching
URL:https://odmtesting.com/event/breakers-labs/
LOCATION:5 tool\, 1601 San Elijo\, San Marcos\, 92078\, United States
ATTACH;FMTTYPE=image/png:https://odmtesting.com/wp-content/uploads/2020/06/breakers-labs-logo-1-e1665270877123.png
END:VEVENT
BEGIN:VEVENT
DTSTART;TZID=UTC:20260522T150000
DTEND;TZID=UTC:20260522T190000
DTSTAMP:20260423T093657
CREATED:20250411T040212Z
LAST-MODIFIED:20260211T212915Z
UID:7167-1779462000-1779476400@odmtesting.com
SUMMARY:HuSTLe City Invitational\, ODM® Testing [Open to All]
DESCRIPTION:ODM® is trusted by players\, parents\, college and travel ball coaches across the country.\nWHEN: \nFriday\, May 22\, 2026 \nSession 1: 3pm-5pm    Session 2: 5pm-7pm    \nPlease show up 15 minutes before your session for registration \nWHERE: \nChesterfield Valley Athletic Complex\, Quad F \nWHAT TO BRING/WEAR: \nOUTDOOR: athletic/gym attire\, bat\, glove\, batting gloves\, turf shoes\, cleats & water \nThe fields are half turf and half grass make sure to bring cleats and turf shoes \nOUR TESTS: \n\n10\, 20\, 40 Yard Dash\nPro Agility Shuttle\nBat Speed\, Hand Speed\, Time to Contact (avg)\nBall Exit Speed (avg)\nThrowing Velocity (avg)\nBroad Jump\nGrip Strength\n\nPLAYERS WILL RECEIVE:\n\nODM® Testing Measurements\nAllister Index\, included with Level I Testing only\nODM® Testing Scorecard via registered email\nScores listed on National Leaderboard for one month\nConsideration for invitation-only OnDeck Softball Jamborees\nFREE OnDeck Softball Player Profile\n\nADDITONAL INFO:\n\nAn OnDeck Softball profile is included and required for registration\nIf you are registering more than one player\, use different emails for each profiles\nScorecards will be sent via email within 7 days after the conclusion of the event\n\n\nRegister Here for ODM® Testing\nClick Here to Pre-Order Hitting Tool
URL:https://odmtesting.com/event/hustle-city/
LOCATION:Chesterfield Valley Athletic Complex\, 17925 N Outer 40 Rd\, Chesterfield\, MO\, MO\, 63005\, United States
ATTACH;FMTTYPE=image/png:https://odmtesting.com/wp-content/uploads/2022/10/ODM-Vector-Logo.png-R-e1665445520436.png
END:VEVENT
BEGIN:VEVENT
DTSTART;TZID=UTC:20260531T090000
DTEND;TZID=UTC:20260531T120000
DTSTAMP:20260423T093657
CREATED:20240315T051403Z
LAST-MODIFIED:20260406T223259Z
UID:6670-1780218000-1780228800@odmtesting.com
SUMMARY:Chicago Cheetahs\, ODM® Testing [Private]
DESCRIPTION:ODM® is trusted by players\, parents\, college and travel ball coaches across the country.\nWHEN: \nSunday\, May 31\, 2026 \nSession Times: \n\n9am-12pm\n\nWHERE: \nBo Jackson Dome Bensenville \nWHAT TO BRING/WEAR: \nINDOOR: athletic/gym attire\, bat\, glove\, batting gloves\, turf shoes & water \nOUR TESTS: \n\n10\, 20\, 40 Yard Dash\nPro Agility Shuttle\nBat Speed\, Hand Speed\, Time to Contact (avg)\nBall Exit Speed (avg)\nThrowing Velocity (avg)\nBroad Jump\nGrip Strength\n\nPLAYERS WILL RECEIVE:\n\nODM® Testing Measurements\nAllister Index\, included with Level I Testing only\nODM® Testing Scorecard via registered email\nScores listed on National Leaderboard\nConsideration for invitation-only OnDeck Softball Jamborees\nFREE OnDeck Softball Player Profile\n\nADDITONAL INFO:\n\nAn OnDeck Softball profile is included and required for registration\nIf you are registering more than one player\, use different emails for each profiles\nScorecards will be sent via email within 10 business days post event\n\n\nRegister Here for ODM® Testing\nClick Here to Pre-Order Hitting Tool\n\n\n 
URL:https://odmtesting.com/event/chicago-cheetahs/
LOCATION:bo dome bensenville
ATTACH;FMTTYPE=image/jpeg:https://odmtesting.com/wp-content/uploads/2024/03/Chicago-Cheetahs-Logo.jpeg
END:VEVENT
BEGIN:VEVENT
DTSTART;TZID=UTC:20260617T143000
DTEND;TZID=UTC:20260617T163000
DTSTAMP:20260423T093657
CREATED:20251230T053340Z
LAST-MODIFIED:20251230T054128Z
UID:7420-1781706600-1781713800@odmtesting.com
SUMMARY:Scenic City\, ODM® Testing [OPEN to ALL]
DESCRIPTION:ODM® is trusted by players\, parents\, college and travel ball coaches across the country.\nWHEN: \nWednesday\, June 17\, 2026 \n2:30pm-4:30pm \n***Event will be limited to 100 players only \nWHERE: \nLocation will be announced at a closer date \nWHAT TO BRING/WEAR: \nOUTDOOR: athletic/gym attire\, bat\, glove\, batting gloves\, cleats & water \nOUR TESTS: \n\n10\, 20\, 40 Yard Dash\nPro Agility Shuttle\nBat Speed\, Hand Speed\, Time to Contact (avg)\nBall Exit Speed (avg)\nThrowing Velocity (avg)\nBroad Jump\nGrip Strength\n\nPLAYERS WILL RECEIVE:\n\nODM® Testing Measurements\nAllister Index\, included with Level I Testing only\nODM® Testing Scorecard via registered email\nScores listed on National Leaderboard\nConsideration for invitation-only OnDeck Softball Jamborees\nFREE OnDeck Softball Player Profile\n\nADDITONAL INFO:\n\nAn OnDeck Softball profile is included and required for registration\nIf you are registering more than one player\, use different emails for each profiles\nScorecards will be sent via email within 10 business days post event\n\n\nRegister Here for ODM® Testing\nClick Here to Pre-Order Hitting Tool
URL:https://odmtesting.com/event/scenic-city/
LOCATION:TBA\, Chatanooga\, Tennessee
ATTACH;FMTTYPE=image/png:https://odmtesting.com/wp-content/uploads/2025/12/scenic-city-2025-purple-e1767073107678.png
END:VEVENT
END:VCALENDAR